BEGIN:VCALENDAR
PRODID:-//eluceo/ical//2.0/EN
VERSION:2.0
CALSCALE:GREGORIAN
BEGIN:VEVENT
UID:event-15
DTSTAMP:20260420T050814Z
SUMMARY:Lancering Ondernemers magazine
DESCRIPTION:Lancering in Delft van DOT magazine als voorproefje voor de spe
 cial die in september voor Leidschendam Voorburg wordt uitgebracht. schrij
 f je in voor de activiteit via https://delftbusiness.iseated.com/session/
 924427
DTSTART:20240627T150000Z
DTEND:20240627T180000Z
END:VEVENT
BEGIN:VTIMEZONE
TZID:UTC
BEGIN:STANDARD
DTSTART:20240627T150000
TZNAME:UTC
TZOFFSETTO:+0000
TZOFFSETFROM:+0000
END:STANDARD
END:VTIMEZONE
END:VCALENDAR
